BEGIN:VCALENDAR
VERSION:2.0
PRODID:-//Smuttynose Brewing - ECPv6.15.20//NONSGML v1.0//EN
CALSCALE:GREGORIAN
METHOD:PUBLISH
X-ORIGINAL-URL:https://smuttynose.com
X-WR-CALDESC:Events for Smuttynose Brewing
REFRESH-INTERVAL;VALUE=DURATION:PT1H
X-Robots-Tag:noindex
X-PUBLISHED-TTL:PT1H
BEGIN:VTIMEZONE
TZID:America/New_York
BEGIN:DAYLIGHT
TZOFFSETFROM:-0500
TZOFFSETTO:-0400
TZNAME:EDT
DTSTART:20270314T070000
END:DAYLIGHT
BEGIN:STANDARD
TZOFFSETFROM:-0400
TZOFFSETTO:-0500
TZNAME:EST
DTSTART:20271107T060000
END:STANDARD
BEGIN:DAYLIGHT
TZOFFSETFROM:-0500
TZOFFSETTO:-0400
TZNAME:EDT
DTSTART:20280312T070000
END:DAYLIGHT
BEGIN:STANDARD
TZOFFSETFROM:-0400
TZOFFSETTO:-0500
TZNAME:EST
DTSTART:20281105T060000
END:STANDARD
BEGIN:DAYLIGHT
TZOFFSETFROM:-0500
TZOFFSETTO:-0400
TZNAME:EDT
DTSTART:20290311T070000
END:DAYLIGHT
BEGIN:STANDARD
TZOFFSETFROM:-0400
TZOFFSETTO:-0500
TZNAME:EST
DTSTART:20291104T060000
END:STANDARD
END:VTIMEZONE
BEGIN:VEVENT
DTSTART;TZID=America/New_York:20280802T180000
DTEND;TZID=America/New_York:20280802T203000
DTSTAMP:20260420T035443
CREATED:20250321T175459Z
LAST-MODIFIED:20250321T175459Z
UID:10000177-1848852000-1848861000@smuttynose.com
SUMMARY:Trivia: Every Wednesday\, 6 - 8:30 PM
DESCRIPTION:
URL:https://smuttynose.com/event/trivia-every-wednesday-6-830-pm/2028-08-02/
END:VEVENT
BEGIN:VEVENT
DTSTART;TZID=America/New_York:20280803T173000
DTEND;TZID=America/New_York:20280803T203000
DTSTAMP:20260420T035443
CREATED:20250321T175717Z
LAST-MODIFIED:20250321T175717Z
UID:10000699-1848936600-1848947400@smuttynose.com
SUMMARY:Live Music: Every Thursday\, 5:30 - 8:30 PM
DESCRIPTION:
URL:https://smuttynose.com/event/live-music-every-thursday-530-830-pm/2028-08-03/
END:VEVENT
BEGIN:VEVENT
DTSTART;TZID=America/New_York:20280809T120000
DTEND;TZID=America/New_York:20280809T190000
DTSTAMP:20260420T035443
CREATED:20250321T175619Z
LAST-MODIFIED:20250321T175619Z
UID:10000439-1849435200-1849460400@smuttynose.com
SUMMARY:Tasting Bar: $5 Flights Every Wednesday (12 - 7 PM)
DESCRIPTION:
URL:https://smuttynose.com/event/tasting-bar-5-flights-every-wednesday-12-7-pm/2028-08-09/
END:VEVENT
BEGIN:VEVENT
DTSTART;TZID=America/New_York:20280809T180000
DTEND;TZID=America/New_York:20280809T203000
DTSTAMP:20260420T035443
CREATED:20250321T175459Z
LAST-MODIFIED:20250321T175459Z
UID:10000178-1849456800-1849465800@smuttynose.com
SUMMARY:Trivia: Every Wednesday\, 6 - 8:30 PM
DESCRIPTION:
URL:https://smuttynose.com/event/trivia-every-wednesday-6-830-pm/2028-08-09/
END:VEVENT
BEGIN:VEVENT
DTSTART;TZID=America/New_York:20280810T173000
DTEND;TZID=America/New_York:20280810T203000
DTSTAMP:20260420T035443
CREATED:20250321T175717Z
LAST-MODIFIED:20250321T175717Z
UID:10000700-1849541400-1849552200@smuttynose.com
SUMMARY:Live Music: Every Thursday\, 5:30 - 8:30 PM
DESCRIPTION:
URL:https://smuttynose.com/event/live-music-every-thursday-530-830-pm/2028-08-10/
END:VEVENT
BEGIN:VEVENT
DTSTART;TZID=America/New_York:20280816T120000
DTEND;TZID=America/New_York:20280816T190000
DTSTAMP:20260420T035443
CREATED:20250321T175619Z
LAST-MODIFIED:20250321T175619Z
UID:10000440-1850040000-1850065200@smuttynose.com
SUMMARY:Tasting Bar: $5 Flights Every Wednesday (12 - 7 PM)
DESCRIPTION:
URL:https://smuttynose.com/event/tasting-bar-5-flights-every-wednesday-12-7-pm/2028-08-16/
END:VEVENT
BEGIN:VEVENT
DTSTART;TZID=America/New_York:20280816T180000
DTEND;TZID=America/New_York:20280816T203000
DTSTAMP:20260420T035443
CREATED:20250321T175459Z
LAST-MODIFIED:20250321T175459Z
UID:10000179-1850061600-1850070600@smuttynose.com
SUMMARY:Trivia: Every Wednesday\, 6 - 8:30 PM
DESCRIPTION:
URL:https://smuttynose.com/event/trivia-every-wednesday-6-830-pm/2028-08-16/
END:VEVENT
BEGIN:VEVENT
DTSTART;TZID=America/New_York:20280817T173000
DTEND;TZID=America/New_York:20280817T203000
DTSTAMP:20260420T035443
CREATED:20250321T175717Z
LAST-MODIFIED:20250321T175717Z
UID:10000701-1850146200-1850157000@smuttynose.com
SUMMARY:Live Music: Every Thursday\, 5:30 - 8:30 PM
DESCRIPTION:
URL:https://smuttynose.com/event/live-music-every-thursday-530-830-pm/2028-08-17/
END:VEVENT
BEGIN:VEVENT
DTSTART;TZID=America/New_York:20280823T120000
DTEND;TZID=America/New_York:20280823T190000
DTSTAMP:20260420T035443
CREATED:20250321T175619Z
LAST-MODIFIED:20250321T175619Z
UID:10000441-1850644800-1850670000@smuttynose.com
SUMMARY:Tasting Bar: $5 Flights Every Wednesday (12 - 7 PM)
DESCRIPTION:
URL:https://smuttynose.com/event/tasting-bar-5-flights-every-wednesday-12-7-pm/2028-08-23/
END:VEVENT
BEGIN:VEVENT
DTSTART;TZID=America/New_York:20280823T180000
DTEND;TZID=America/New_York:20280823T203000
DTSTAMP:20260420T035443
CREATED:20250321T175459Z
LAST-MODIFIED:20250321T175459Z
UID:10000180-1850666400-1850675400@smuttynose.com
SUMMARY:Trivia: Every Wednesday\, 6 - 8:30 PM
DESCRIPTION:
URL:https://smuttynose.com/event/trivia-every-wednesday-6-830-pm/2028-08-23/
END:VEVENT
BEGIN:VEVENT
DTSTART;TZID=America/New_York:20280824T173000
DTEND;TZID=America/New_York:20280824T203000
DTSTAMP:20260420T035443
CREATED:20250321T175717Z
LAST-MODIFIED:20250321T175717Z
UID:10000702-1850751000-1850761800@smuttynose.com
SUMMARY:Live Music: Every Thursday\, 5:30 - 8:30 PM
DESCRIPTION:
URL:https://smuttynose.com/event/live-music-every-thursday-530-830-pm/2028-08-24/
END:VEVENT
BEGIN:VEVENT
DTSTART;TZID=America/New_York:20280830T120000
DTEND;TZID=America/New_York:20280830T190000
DTSTAMP:20260420T035443
CREATED:20250321T175619Z
LAST-MODIFIED:20250321T175619Z
UID:10000442-1851249600-1851274800@smuttynose.com
SUMMARY:Tasting Bar: $5 Flights Every Wednesday (12 - 7 PM)
DESCRIPTION:
URL:https://smuttynose.com/event/tasting-bar-5-flights-every-wednesday-12-7-pm/2028-08-30/
END:VEVENT
BEGIN:VEVENT
DTSTART;TZID=America/New_York:20280830T180000
DTEND;TZID=America/New_York:20280830T203000
DTSTAMP:20260420T035443
CREATED:20250321T175459Z
LAST-MODIFIED:20250321T175459Z
UID:10000181-1851271200-1851280200@smuttynose.com
SUMMARY:Trivia: Every Wednesday\, 6 - 8:30 PM
DESCRIPTION:
URL:https://smuttynose.com/event/trivia-every-wednesday-6-830-pm/2028-08-30/
END:VEVENT
BEGIN:VEVENT
DTSTART;TZID=America/New_York:20280831T173000
DTEND;TZID=America/New_York:20280831T203000
DTSTAMP:20260420T035443
CREATED:20250321T175717Z
LAST-MODIFIED:20250321T175717Z
UID:10000703-1851355800-1851366600@smuttynose.com
SUMMARY:Live Music: Every Thursday\, 5:30 - 8:30 PM
DESCRIPTION:
URL:https://smuttynose.com/event/live-music-every-thursday-530-830-pm/2028-08-31/
END:VEVENT
BEGIN:VEVENT
DTSTART;TZID=America/New_York:20280906T120000
DTEND;TZID=America/New_York:20280906T190000
DTSTAMP:20260420T035443
CREATED:20250321T175619Z
LAST-MODIFIED:20250321T175619Z
UID:10000443-1851854400-1851879600@smuttynose.com
SUMMARY:Tasting Bar: $5 Flights Every Wednesday (12 - 7 PM)
DESCRIPTION:
URL:https://smuttynose.com/event/tasting-bar-5-flights-every-wednesday-12-7-pm/2028-09-06/
END:VEVENT
BEGIN:VEVENT
DTSTART;TZID=America/New_York:20280906T180000
DTEND;TZID=America/New_York:20280906T203000
DTSTAMP:20260420T035443
CREATED:20250321T175459Z
LAST-MODIFIED:20250321T175459Z
UID:10000182-1851876000-1851885000@smuttynose.com
SUMMARY:Trivia: Every Wednesday\, 6 - 8:30 PM
DESCRIPTION:
URL:https://smuttynose.com/event/trivia-every-wednesday-6-830-pm/2028-09-06/
END:VEVENT
BEGIN:VEVENT
DTSTART;TZID=America/New_York:20280907T173000
DTEND;TZID=America/New_York:20280907T203000
DTSTAMP:20260420T035443
CREATED:20250321T175717Z
LAST-MODIFIED:20250321T175717Z
UID:10000704-1851960600-1851971400@smuttynose.com
SUMMARY:Live Music: Every Thursday\, 5:30 - 8:30 PM
DESCRIPTION:
URL:https://smuttynose.com/event/live-music-every-thursday-530-830-pm/2028-09-07/
END:VEVENT
BEGIN:VEVENT
DTSTART;TZID=America/New_York:20280913T120000
DTEND;TZID=America/New_York:20280913T190000
DTSTAMP:20260420T035443
CREATED:20250321T175619Z
LAST-MODIFIED:20250321T175619Z
UID:10000444-1852459200-1852484400@smuttynose.com
SUMMARY:Tasting Bar: $5 Flights Every Wednesday (12 - 7 PM)
DESCRIPTION:
URL:https://smuttynose.com/event/tasting-bar-5-flights-every-wednesday-12-7-pm/2028-09-13/
END:VEVENT
BEGIN:VEVENT
DTSTART;TZID=America/New_York:20280913T180000
DTEND;TZID=America/New_York:20280913T203000
DTSTAMP:20260420T035443
CREATED:20250321T175459Z
LAST-MODIFIED:20250321T175459Z
UID:10000183-1852480800-1852489800@smuttynose.com
SUMMARY:Trivia: Every Wednesday\, 6 - 8:30 PM
DESCRIPTION:
URL:https://smuttynose.com/event/trivia-every-wednesday-6-830-pm/2028-09-13/
END:VEVENT
BEGIN:VEVENT
DTSTART;TZID=America/New_York:20280914T173000
DTEND;TZID=America/New_York:20280914T203000
DTSTAMP:20260420T035443
CREATED:20250321T175717Z
LAST-MODIFIED:20250321T175717Z
UID:10000705-1852565400-1852576200@smuttynose.com
SUMMARY:Live Music: Every Thursday\, 5:30 - 8:30 PM
DESCRIPTION:
URL:https://smuttynose.com/event/live-music-every-thursday-530-830-pm/2028-09-14/
END:VEVENT
BEGIN:VEVENT
DTSTART;TZID=America/New_York:20280920T120000
DTEND;TZID=America/New_York:20280920T190000
DTSTAMP:20260420T035443
CREATED:20250321T175619Z
LAST-MODIFIED:20250321T175619Z
UID:10000445-1853064000-1853089200@smuttynose.com
SUMMARY:Tasting Bar: $5 Flights Every Wednesday (12 - 7 PM)
DESCRIPTION:
URL:https://smuttynose.com/event/tasting-bar-5-flights-every-wednesday-12-7-pm/2028-09-20/
END:VEVENT
BEGIN:VEVENT
DTSTART;TZID=America/New_York:20280920T180000
DTEND;TZID=America/New_York:20280920T203000
DTSTAMP:20260420T035443
CREATED:20250321T175459Z
LAST-MODIFIED:20250321T175459Z
UID:10000184-1853085600-1853094600@smuttynose.com
SUMMARY:Trivia: Every Wednesday\, 6 - 8:30 PM
DESCRIPTION:
URL:https://smuttynose.com/event/trivia-every-wednesday-6-830-pm/2028-09-20/
END:VEVENT
BEGIN:VEVENT
DTSTART;TZID=America/New_York:20280921T173000
DTEND;TZID=America/New_York:20280921T203000
DTSTAMP:20260420T035443
CREATED:20250321T175717Z
LAST-MODIFIED:20250321T175717Z
UID:10000706-1853170200-1853181000@smuttynose.com
SUMMARY:Live Music: Every Thursday\, 5:30 - 8:30 PM
DESCRIPTION:
URL:https://smuttynose.com/event/live-music-every-thursday-530-830-pm/2028-09-21/
END:VEVENT
BEGIN:VEVENT
DTSTART;TZID=America/New_York:20280927T120000
DTEND;TZID=America/New_York:20280927T190000
DTSTAMP:20260420T035443
CREATED:20250321T175619Z
LAST-MODIFIED:20250321T175619Z
UID:10000446-1853668800-1853694000@smuttynose.com
SUMMARY:Tasting Bar: $5 Flights Every Wednesday (12 - 7 PM)
DESCRIPTION:
URL:https://smuttynose.com/event/tasting-bar-5-flights-every-wednesday-12-7-pm/2028-09-27/
END:VEVENT
BEGIN:VEVENT
DTSTART;TZID=America/New_York:20280927T180000
DTEND;TZID=America/New_York:20280927T203000
DTSTAMP:20260420T035443
CREATED:20250321T175459Z
LAST-MODIFIED:20250321T175459Z
UID:10000185-1853690400-1853699400@smuttynose.com
SUMMARY:Trivia: Every Wednesday\, 6 - 8:30 PM
DESCRIPTION:
URL:https://smuttynose.com/event/trivia-every-wednesday-6-830-pm/2028-09-27/
END:VEVENT
BEGIN:VEVENT
DTSTART;TZID=America/New_York:20280928T173000
DTEND;TZID=America/New_York:20280928T203000
DTSTAMP:20260420T035443
CREATED:20250321T175717Z
LAST-MODIFIED:20250321T175717Z
UID:10000707-1853775000-1853785800@smuttynose.com
SUMMARY:Live Music: Every Thursday\, 5:30 - 8:30 PM
DESCRIPTION:
URL:https://smuttynose.com/event/live-music-every-thursday-530-830-pm/2028-09-28/
END:VEVENT
BEGIN:VEVENT
DTSTART;TZID=America/New_York:20281004T120000
DTEND;TZID=America/New_York:20281004T190000
DTSTAMP:20260420T035443
CREATED:20250321T175619Z
LAST-MODIFIED:20250321T175619Z
UID:10000447-1854273600-1854298800@smuttynose.com
SUMMARY:Tasting Bar: $5 Flights Every Wednesday (12 - 7 PM)
DESCRIPTION:
URL:https://smuttynose.com/event/tasting-bar-5-flights-every-wednesday-12-7-pm/2028-10-04/
END:VEVENT
BEGIN:VEVENT
DTSTART;TZID=America/New_York:20281004T180000
DTEND;TZID=America/New_York:20281004T203000
DTSTAMP:20260420T035443
CREATED:20250321T175459Z
LAST-MODIFIED:20250321T175459Z
UID:10000186-1854295200-1854304200@smuttynose.com
SUMMARY:Trivia: Every Wednesday\, 6 - 8:30 PM
DESCRIPTION:
URL:https://smuttynose.com/event/trivia-every-wednesday-6-830-pm/2028-10-04/
END:VEVENT
BEGIN:VEVENT
DTSTART;TZID=America/New_York:20281005T173000
DTEND;TZID=America/New_York:20281005T203000
DTSTAMP:20260420T035443
CREATED:20250321T175717Z
LAST-MODIFIED:20250321T175717Z
UID:10000708-1854379800-1854390600@smuttynose.com
SUMMARY:Live Music: Every Thursday\, 5:30 - 8:30 PM
DESCRIPTION:
URL:https://smuttynose.com/event/live-music-every-thursday-530-830-pm/2028-10-05/
END:VEVENT
BEGIN:VEVENT
DTSTART;TZID=America/New_York:20281011T120000
DTEND;TZID=America/New_York:20281011T190000
DTSTAMP:20260420T035443
CREATED:20250321T175619Z
LAST-MODIFIED:20250321T175619Z
UID:10000448-1854878400-1854903600@smuttynose.com
SUMMARY:Tasting Bar: $5 Flights Every Wednesday (12 - 7 PM)
DESCRIPTION:
URL:https://smuttynose.com/event/tasting-bar-5-flights-every-wednesday-12-7-pm/2028-10-11/
END:VEVENT
END:VCALENDAR