BEGIN:VCALENDAR
VERSION:2.0
PRODID:-//Smuttynose Brewing - ECPv6.15.20//NONSGML v1.0//EN
CALSCALE:GREGORIAN
METHOD:PUBLISH
X-WR-CALNAME:Smuttynose Brewing
X-ORIGINAL-URL:https://smuttynose.com
X-WR-CALDESC:Events for Smuttynose Brewing
REFRESH-INTERVAL;VALUE=DURATION:PT1H
X-Robots-Tag:noindex
X-PUBLISHED-TTL:PT1H
BEGIN:VTIMEZONE
TZID:America/New_York
BEGIN:DAYLIGHT
TZOFFSETFROM:-0500
TZOFFSETTO:-0400
TZNAME:EDT
DTSTART:20270314T070000
END:DAYLIGHT
BEGIN:STANDARD
TZOFFSETFROM:-0400
TZOFFSETTO:-0500
TZNAME:EST
DTSTART:20271107T060000
END:STANDARD
BEGIN:DAYLIGHT
TZOFFSETFROM:-0500
TZOFFSETTO:-0400
TZNAME:EDT
DTSTART:20280312T070000
END:DAYLIGHT
BEGIN:STANDARD
TZOFFSETFROM:-0400
TZOFFSETTO:-0500
TZNAME:EST
DTSTART:20281105T060000
END:STANDARD
BEGIN:DAYLIGHT
TZOFFSETFROM:-0500
TZOFFSETTO:-0400
TZNAME:EDT
DTSTART:20290311T070000
END:DAYLIGHT
BEGIN:STANDARD
TZOFFSETFROM:-0400
TZOFFSETTO:-0500
TZNAME:EST
DTSTART:20291104T060000
END:STANDARD
END:VTIMEZONE
BEGIN:VEVENT
DTSTART;TZID=America/New_York:20280920T120000
DTEND;TZID=America/New_York:20280920T190000
DTSTAMP:20260420T074729
CREATED:20250321T175619Z
LAST-MODIFIED:20250321T175619Z
UID:10000445-1853064000-1853089200@smuttynose.com
SUMMARY:Tasting Bar: $5 Flights Every Wednesday (12 - 7 PM)
DESCRIPTION:
URL:https://smuttynose.com/event/tasting-bar-5-flights-every-wednesday-12-7-pm/2028-09-20/
END:VEVENT
BEGIN:VEVENT
DTSTART;TZID=America/New_York:20280920T180000
DTEND;TZID=America/New_York:20280920T203000
DTSTAMP:20260420T074729
CREATED:20250321T175459Z
LAST-MODIFIED:20250321T175459Z
UID:10000184-1853085600-1853094600@smuttynose.com
SUMMARY:Trivia: Every Wednesday\, 6 - 8:30 PM
DESCRIPTION:
URL:https://smuttynose.com/event/trivia-every-wednesday-6-830-pm/2028-09-20/
END:VEVENT
BEGIN:VEVENT
DTSTART;TZID=America/New_York:20280921T173000
DTEND;TZID=America/New_York:20280921T203000
DTSTAMP:20260420T074729
CREATED:20250321T175717Z
LAST-MODIFIED:20250321T175717Z
UID:10000706-1853170200-1853181000@smuttynose.com
SUMMARY:Live Music: Every Thursday\, 5:30 - 8:30 PM
DESCRIPTION:
URL:https://smuttynose.com/event/live-music-every-thursday-530-830-pm/2028-09-21/
END:VEVENT
BEGIN:VEVENT
DTSTART;TZID=America/New_York:20280927T120000
DTEND;TZID=America/New_York:20280927T190000
DTSTAMP:20260420T074729
CREATED:20250321T175619Z
LAST-MODIFIED:20250321T175619Z
UID:10000446-1853668800-1853694000@smuttynose.com
SUMMARY:Tasting Bar: $5 Flights Every Wednesday (12 - 7 PM)
DESCRIPTION:
URL:https://smuttynose.com/event/tasting-bar-5-flights-every-wednesday-12-7-pm/2028-09-27/
END:VEVENT
BEGIN:VEVENT
DTSTART;TZID=America/New_York:20280927T180000
DTEND;TZID=America/New_York:20280927T203000
DTSTAMP:20260420T074729
CREATED:20250321T175459Z
LAST-MODIFIED:20250321T175459Z
UID:10000185-1853690400-1853699400@smuttynose.com
SUMMARY:Trivia: Every Wednesday\, 6 - 8:30 PM
DESCRIPTION:
URL:https://smuttynose.com/event/trivia-every-wednesday-6-830-pm/2028-09-27/
END:VEVENT
BEGIN:VEVENT
DTSTART;TZID=America/New_York:20280928T173000
DTEND;TZID=America/New_York:20280928T203000
DTSTAMP:20260420T074729
CREATED:20250321T175717Z
LAST-MODIFIED:20250321T175717Z
UID:10000707-1853775000-1853785800@smuttynose.com
SUMMARY:Live Music: Every Thursday\, 5:30 - 8:30 PM
DESCRIPTION:
URL:https://smuttynose.com/event/live-music-every-thursday-530-830-pm/2028-09-28/
END:VEVENT
BEGIN:VEVENT
DTSTART;TZID=America/New_York:20281004T120000
DTEND;TZID=America/New_York:20281004T190000
DTSTAMP:20260420T074729
CREATED:20250321T175619Z
LAST-MODIFIED:20250321T175619Z
UID:10000447-1854273600-1854298800@smuttynose.com
SUMMARY:Tasting Bar: $5 Flights Every Wednesday (12 - 7 PM)
DESCRIPTION:
URL:https://smuttynose.com/event/tasting-bar-5-flights-every-wednesday-12-7-pm/2028-10-04/
END:VEVENT
BEGIN:VEVENT
DTSTART;TZID=America/New_York:20281004T180000
DTEND;TZID=America/New_York:20281004T203000
DTSTAMP:20260420T074729
CREATED:20250321T175459Z
LAST-MODIFIED:20250321T175459Z
UID:10000186-1854295200-1854304200@smuttynose.com
SUMMARY:Trivia: Every Wednesday\, 6 - 8:30 PM
DESCRIPTION:
URL:https://smuttynose.com/event/trivia-every-wednesday-6-830-pm/2028-10-04/
END:VEVENT
BEGIN:VEVENT
DTSTART;TZID=America/New_York:20281005T173000
DTEND;TZID=America/New_York:20281005T203000
DTSTAMP:20260420T074729
CREATED:20250321T175717Z
LAST-MODIFIED:20250321T175717Z
UID:10000708-1854379800-1854390600@smuttynose.com
SUMMARY:Live Music: Every Thursday\, 5:30 - 8:30 PM
DESCRIPTION:
URL:https://smuttynose.com/event/live-music-every-thursday-530-830-pm/2028-10-05/
END:VEVENT
BEGIN:VEVENT
DTSTART;TZID=America/New_York:20281011T120000
DTEND;TZID=America/New_York:20281011T190000
DTSTAMP:20260420T074729
CREATED:20250321T175619Z
LAST-MODIFIED:20250321T175619Z
UID:10000448-1854878400-1854903600@smuttynose.com
SUMMARY:Tasting Bar: $5 Flights Every Wednesday (12 - 7 PM)
DESCRIPTION:
URL:https://smuttynose.com/event/tasting-bar-5-flights-every-wednesday-12-7-pm/2028-10-11/
END:VEVENT
BEGIN:VEVENT
DTSTART;TZID=America/New_York:20281011T180000
DTEND;TZID=America/New_York:20281011T203000
DTSTAMP:20260420T074729
CREATED:20250321T175459Z
LAST-MODIFIED:20250321T175459Z
UID:10000187-1854900000-1854909000@smuttynose.com
SUMMARY:Trivia: Every Wednesday\, 6 - 8:30 PM
DESCRIPTION:
URL:https://smuttynose.com/event/trivia-every-wednesday-6-830-pm/2028-10-11/
END:VEVENT
BEGIN:VEVENT
DTSTART;TZID=America/New_York:20281012T173000
DTEND;TZID=America/New_York:20281012T203000
DTSTAMP:20260420T074729
CREATED:20250321T175717Z
LAST-MODIFIED:20250321T175717Z
UID:10000709-1854984600-1854995400@smuttynose.com
SUMMARY:Live Music: Every Thursday\, 5:30 - 8:30 PM
DESCRIPTION:
URL:https://smuttynose.com/event/live-music-every-thursday-530-830-pm/2028-10-12/
END:VEVENT
BEGIN:VEVENT
DTSTART;TZID=America/New_York:20281018T120000
DTEND;TZID=America/New_York:20281018T190000
DTSTAMP:20260420T074729
CREATED:20250321T175619Z
LAST-MODIFIED:20250321T175619Z
UID:10000449-1855483200-1855508400@smuttynose.com
SUMMARY:Tasting Bar: $5 Flights Every Wednesday (12 - 7 PM)
DESCRIPTION:
URL:https://smuttynose.com/event/tasting-bar-5-flights-every-wednesday-12-7-pm/2028-10-18/
END:VEVENT
BEGIN:VEVENT
DTSTART;TZID=America/New_York:20281018T180000
DTEND;TZID=America/New_York:20281018T203000
DTSTAMP:20260420T074729
CREATED:20250321T175459Z
LAST-MODIFIED:20250321T175459Z
UID:10000188-1855504800-1855513800@smuttynose.com
SUMMARY:Trivia: Every Wednesday\, 6 - 8:30 PM
DESCRIPTION:
URL:https://smuttynose.com/event/trivia-every-wednesday-6-830-pm/2028-10-18/
END:VEVENT
BEGIN:VEVENT
DTSTART;TZID=America/New_York:20281019T173000
DTEND;TZID=America/New_York:20281019T203000
DTSTAMP:20260420T074729
CREATED:20250321T175717Z
LAST-MODIFIED:20250321T175717Z
UID:10000710-1855589400-1855600200@smuttynose.com
SUMMARY:Live Music: Every Thursday\, 5:30 - 8:30 PM
DESCRIPTION:
URL:https://smuttynose.com/event/live-music-every-thursday-530-830-pm/2028-10-19/
END:VEVENT
BEGIN:VEVENT
DTSTART;TZID=America/New_York:20281025T120000
DTEND;TZID=America/New_York:20281025T190000
DTSTAMP:20260420T074729
CREATED:20250321T175619Z
LAST-MODIFIED:20250321T175619Z
UID:10000450-1856088000-1856113200@smuttynose.com
SUMMARY:Tasting Bar: $5 Flights Every Wednesday (12 - 7 PM)
DESCRIPTION:
URL:https://smuttynose.com/event/tasting-bar-5-flights-every-wednesday-12-7-pm/2028-10-25/
END:VEVENT
BEGIN:VEVENT
DTSTART;TZID=America/New_York:20281025T180000
DTEND;TZID=America/New_York:20281025T203000
DTSTAMP:20260420T074729
CREATED:20250321T175459Z
LAST-MODIFIED:20250321T175459Z
UID:10000189-1856109600-1856118600@smuttynose.com
SUMMARY:Trivia: Every Wednesday\, 6 - 8:30 PM
DESCRIPTION:
URL:https://smuttynose.com/event/trivia-every-wednesday-6-830-pm/2028-10-25/
END:VEVENT
BEGIN:VEVENT
DTSTART;TZID=America/New_York:20281026T173000
DTEND;TZID=America/New_York:20281026T203000
DTSTAMP:20260420T074729
CREATED:20250321T175717Z
LAST-MODIFIED:20250321T175717Z
UID:10000711-1856194200-1856205000@smuttynose.com
SUMMARY:Live Music: Every Thursday\, 5:30 - 8:30 PM
DESCRIPTION:
URL:https://smuttynose.com/event/live-music-every-thursday-530-830-pm/2028-10-26/
END:VEVENT
BEGIN:VEVENT
DTSTART;TZID=America/New_York:20281101T120000
DTEND;TZID=America/New_York:20281101T190000
DTSTAMP:20260420T074729
CREATED:20250321T175619Z
LAST-MODIFIED:20250321T175619Z
UID:10000451-1856692800-1856718000@smuttynose.com
SUMMARY:Tasting Bar: $5 Flights Every Wednesday (12 - 7 PM)
DESCRIPTION:
URL:https://smuttynose.com/event/tasting-bar-5-flights-every-wednesday-12-7-pm/2028-11-01/
END:VEVENT
BEGIN:VEVENT
DTSTART;TZID=America/New_York:20281101T180000
DTEND;TZID=America/New_York:20281101T203000
DTSTAMP:20260420T074729
CREATED:20250321T175459Z
LAST-MODIFIED:20250321T175459Z
UID:10000190-1856714400-1856723400@smuttynose.com
SUMMARY:Trivia: Every Wednesday\, 6 - 8:30 PM
DESCRIPTION:
URL:https://smuttynose.com/event/trivia-every-wednesday-6-830-pm/2028-11-01/
END:VEVENT
BEGIN:VEVENT
DTSTART;TZID=America/New_York:20281102T173000
DTEND;TZID=America/New_York:20281102T203000
DTSTAMP:20260420T074729
CREATED:20250321T175717Z
LAST-MODIFIED:20250321T175717Z
UID:10000712-1856799000-1856809800@smuttynose.com
SUMMARY:Live Music: Every Thursday\, 5:30 - 8:30 PM
DESCRIPTION:
URL:https://smuttynose.com/event/live-music-every-thursday-530-830-pm/2028-11-02/
END:VEVENT
BEGIN:VEVENT
DTSTART;TZID=America/New_York:20281108T120000
DTEND;TZID=America/New_York:20281108T190000
DTSTAMP:20260420T074729
CREATED:20250321T175619Z
LAST-MODIFIED:20250321T175619Z
UID:10000452-1857297600-1857322800@smuttynose.com
SUMMARY:Tasting Bar: $5 Flights Every Wednesday (12 - 7 PM)
DESCRIPTION:
URL:https://smuttynose.com/event/tasting-bar-5-flights-every-wednesday-12-7-pm/2028-11-08/
END:VEVENT
BEGIN:VEVENT
DTSTART;TZID=America/New_York:20281108T180000
DTEND;TZID=America/New_York:20281108T203000
DTSTAMP:20260420T074729
CREATED:20250321T175459Z
LAST-MODIFIED:20250321T175459Z
UID:10000191-1857319200-1857328200@smuttynose.com
SUMMARY:Trivia: Every Wednesday\, 6 - 8:30 PM
DESCRIPTION:
URL:https://smuttynose.com/event/trivia-every-wednesday-6-830-pm/2028-11-08/
END:VEVENT
BEGIN:VEVENT
DTSTART;TZID=America/New_York:20281109T173000
DTEND;TZID=America/New_York:20281109T203000
DTSTAMP:20260420T074729
CREATED:20250321T175717Z
LAST-MODIFIED:20250321T175717Z
UID:10000713-1857403800-1857414600@smuttynose.com
SUMMARY:Live Music: Every Thursday\, 5:30 - 8:30 PM
DESCRIPTION:
URL:https://smuttynose.com/event/live-music-every-thursday-530-830-pm/2028-11-09/
END:VEVENT
BEGIN:VEVENT
DTSTART;TZID=America/New_York:20281115T120000
DTEND;TZID=America/New_York:20281115T190000
DTSTAMP:20260420T074729
CREATED:20250321T175619Z
LAST-MODIFIED:20250321T175619Z
UID:10000453-1857902400-1857927600@smuttynose.com
SUMMARY:Tasting Bar: $5 Flights Every Wednesday (12 - 7 PM)
DESCRIPTION:
URL:https://smuttynose.com/event/tasting-bar-5-flights-every-wednesday-12-7-pm/2028-11-15/
END:VEVENT
BEGIN:VEVENT
DTSTART;TZID=America/New_York:20281115T180000
DTEND;TZID=America/New_York:20281115T203000
DTSTAMP:20260420T074729
CREATED:20250321T175459Z
LAST-MODIFIED:20250321T175459Z
UID:10000192-1857924000-1857933000@smuttynose.com
SUMMARY:Trivia: Every Wednesday\, 6 - 8:30 PM
DESCRIPTION:
URL:https://smuttynose.com/event/trivia-every-wednesday-6-830-pm/2028-11-15/
END:VEVENT
BEGIN:VEVENT
DTSTART;TZID=America/New_York:20281116T173000
DTEND;TZID=America/New_York:20281116T203000
DTSTAMP:20260420T074729
CREATED:20250321T175717Z
LAST-MODIFIED:20250321T175717Z
UID:10000714-1858008600-1858019400@smuttynose.com
SUMMARY:Live Music: Every Thursday\, 5:30 - 8:30 PM
DESCRIPTION:
URL:https://smuttynose.com/event/live-music-every-thursday-530-830-pm/2028-11-16/
END:VEVENT
BEGIN:VEVENT
DTSTART;TZID=America/New_York:20281122T120000
DTEND;TZID=America/New_York:20281122T190000
DTSTAMP:20260420T074729
CREATED:20250321T175619Z
LAST-MODIFIED:20250321T175619Z
UID:10000454-1858507200-1858532400@smuttynose.com
SUMMARY:Tasting Bar: $5 Flights Every Wednesday (12 - 7 PM)
DESCRIPTION:
URL:https://smuttynose.com/event/tasting-bar-5-flights-every-wednesday-12-7-pm/2028-11-22/
END:VEVENT
BEGIN:VEVENT
DTSTART;TZID=America/New_York:20281122T180000
DTEND;TZID=America/New_York:20281122T203000
DTSTAMP:20260420T074729
CREATED:20250321T175459Z
LAST-MODIFIED:20250321T175459Z
UID:10000193-1858528800-1858537800@smuttynose.com
SUMMARY:Trivia: Every Wednesday\, 6 - 8:30 PM
DESCRIPTION:
URL:https://smuttynose.com/event/trivia-every-wednesday-6-830-pm/2028-11-22/
END:VEVENT
BEGIN:VEVENT
DTSTART;TZID=America/New_York:20281123T173000
DTEND;TZID=America/New_York:20281123T203000
DTSTAMP:20260420T074729
CREATED:20250321T175717Z
LAST-MODIFIED:20250321T175717Z
UID:10000715-1858613400-1858624200@smuttynose.com
SUMMARY:Live Music: Every Thursday\, 5:30 - 8:30 PM
DESCRIPTION:
URL:https://smuttynose.com/event/live-music-every-thursday-530-830-pm/2028-11-23/
END:VEVENT
END:VCALENDAR