BEGIN:VCALENDAR
VERSION:2.0
PRODID:-//Smuttynose Brewing - ECPv6.15.20//NONSGML v1.0//EN
CALSCALE:GREGORIAN
METHOD:PUBLISH
X-WR-CALNAME:Smuttynose Brewing
X-ORIGINAL-URL:https://smuttynose.com
X-WR-CALDESC:Events for Smuttynose Brewing
REFRESH-INTERVAL;VALUE=DURATION:PT1H
X-Robots-Tag:noindex
X-PUBLISHED-TTL:PT1H
BEGIN:VTIMEZONE
TZID:America/New_York
BEGIN:DAYLIGHT
TZOFFSETFROM:-0500
TZOFFSETTO:-0400
TZNAME:EDT
DTSTART:20280312T070000
END:DAYLIGHT
BEGIN:STANDARD
TZOFFSETFROM:-0400
TZOFFSETTO:-0500
TZNAME:EST
DTSTART:20281105T060000
END:STANDARD
BEGIN:DAYLIGHT
TZOFFSETFROM:-0500
TZOFFSETTO:-0400
TZNAME:EDT
DTSTART:20290311T070000
END:DAYLIGHT
BEGIN:STANDARD
TZOFFSETFROM:-0400
TZOFFSETTO:-0500
TZNAME:EST
DTSTART:20291104T060000
END:STANDARD
BEGIN:DAYLIGHT
TZOFFSETFROM:-0500
TZOFFSETTO:-0400
TZNAME:EDT
DTSTART:20300310T070000
END:DAYLIGHT
BEGIN:STANDARD
TZOFFSETFROM:-0400
TZOFFSETTO:-0500
TZNAME:EST
DTSTART:20301103T060000
END:STANDARD
END:VTIMEZONE
BEGIN:VEVENT
DTSTART;TZID=America/New_York:20290208T173000
DTEND;TZID=America/New_York:20290208T203000
DTSTAMP:20260420T232102
CREATED:20250321T175717Z
LAST-MODIFIED:20250321T175717Z
UID:10000726-1865266200-1865277000@smuttynose.com
SUMMARY:Live Music: Every Thursday\, 5:30 - 8:30 PM
DESCRIPTION:
URL:https://smuttynose.com/event/live-music-every-thursday-530-830-pm/2029-02-08/
END:VEVENT
BEGIN:VEVENT
DTSTART;TZID=America/New_York:20290214T120000
DTEND;TZID=America/New_York:20290214T190000
DTSTAMP:20260420T232102
CREATED:20250321T175619Z
LAST-MODIFIED:20250321T175619Z
UID:10000466-1865764800-1865790000@smuttynose.com
SUMMARY:Tasting Bar: $5 Flights Every Wednesday (12 - 7 PM)
DESCRIPTION:
URL:https://smuttynose.com/event/tasting-bar-5-flights-every-wednesday-12-7-pm/2029-02-14/
END:VEVENT
BEGIN:VEVENT
DTSTART;TZID=America/New_York:20290214T180000
DTEND;TZID=America/New_York:20290214T203000
DTSTAMP:20260420T232102
CREATED:20250321T175459Z
LAST-MODIFIED:20250321T175459Z
UID:10000205-1865786400-1865795400@smuttynose.com
SUMMARY:Trivia: Every Wednesday\, 6 - 8:30 PM
DESCRIPTION:
URL:https://smuttynose.com/event/trivia-every-wednesday-6-830-pm/2029-02-14/
END:VEVENT
BEGIN:VEVENT
DTSTART;TZID=America/New_York:20290215T173000
DTEND;TZID=America/New_York:20290215T203000
DTSTAMP:20260420T232102
CREATED:20250321T175717Z
LAST-MODIFIED:20250321T175717Z
UID:10000727-1865871000-1865881800@smuttynose.com
SUMMARY:Live Music: Every Thursday\, 5:30 - 8:30 PM
DESCRIPTION:
URL:https://smuttynose.com/event/live-music-every-thursday-530-830-pm/2029-02-15/
END:VEVENT
BEGIN:VEVENT
DTSTART;TZID=America/New_York:20290221T120000
DTEND;TZID=America/New_York:20290221T190000
DTSTAMP:20260420T232102
CREATED:20250321T175619Z
LAST-MODIFIED:20250321T175619Z
UID:10000467-1866369600-1866394800@smuttynose.com
SUMMARY:Tasting Bar: $5 Flights Every Wednesday (12 - 7 PM)
DESCRIPTION:
URL:https://smuttynose.com/event/tasting-bar-5-flights-every-wednesday-12-7-pm/2029-02-21/
END:VEVENT
BEGIN:VEVENT
DTSTART;TZID=America/New_York:20290221T180000
DTEND;TZID=America/New_York:20290221T203000
DTSTAMP:20260420T232102
CREATED:20250321T175459Z
LAST-MODIFIED:20250321T175459Z
UID:10000206-1866391200-1866400200@smuttynose.com
SUMMARY:Trivia: Every Wednesday\, 6 - 8:30 PM
DESCRIPTION:
URL:https://smuttynose.com/event/trivia-every-wednesday-6-830-pm/2029-02-21/
END:VEVENT
BEGIN:VEVENT
DTSTART;TZID=America/New_York:20290222T173000
DTEND;TZID=America/New_York:20290222T203000
DTSTAMP:20260420T232102
CREATED:20250321T175717Z
LAST-MODIFIED:20250321T175717Z
UID:10000728-1866475800-1866486600@smuttynose.com
SUMMARY:Live Music: Every Thursday\, 5:30 - 8:30 PM
DESCRIPTION:
URL:https://smuttynose.com/event/live-music-every-thursday-530-830-pm/2029-02-22/
END:VEVENT
BEGIN:VEVENT
DTSTART;TZID=America/New_York:20290228T120000
DTEND;TZID=America/New_York:20290228T190000
DTSTAMP:20260420T232102
CREATED:20250321T175619Z
LAST-MODIFIED:20250321T175619Z
UID:10000468-1866974400-1866999600@smuttynose.com
SUMMARY:Tasting Bar: $5 Flights Every Wednesday (12 - 7 PM)
DESCRIPTION:
URL:https://smuttynose.com/event/tasting-bar-5-flights-every-wednesday-12-7-pm/2029-02-28/
END:VEVENT
BEGIN:VEVENT
DTSTART;TZID=America/New_York:20290228T180000
DTEND;TZID=America/New_York:20290228T203000
DTSTAMP:20260420T232102
CREATED:20250321T175459Z
LAST-MODIFIED:20250321T175459Z
UID:10000207-1866996000-1867005000@smuttynose.com
SUMMARY:Trivia: Every Wednesday\, 6 - 8:30 PM
DESCRIPTION:
URL:https://smuttynose.com/event/trivia-every-wednesday-6-830-pm/2029-02-28/
END:VEVENT
BEGIN:VEVENT
DTSTART;TZID=America/New_York:20290301T173000
DTEND;TZID=America/New_York:20290301T203000
DTSTAMP:20260420T232102
CREATED:20250321T175717Z
LAST-MODIFIED:20250321T175717Z
UID:10000729-1867080600-1867091400@smuttynose.com
SUMMARY:Live Music: Every Thursday\, 5:30 - 8:30 PM
DESCRIPTION:
URL:https://smuttynose.com/event/live-music-every-thursday-530-830-pm/2029-03-01/
END:VEVENT
BEGIN:VEVENT
DTSTART;TZID=America/New_York:20290307T120000
DTEND;TZID=America/New_York:20290307T190000
DTSTAMP:20260420T232102
CREATED:20250321T175619Z
LAST-MODIFIED:20250321T175619Z
UID:10000469-1867579200-1867604400@smuttynose.com
SUMMARY:Tasting Bar: $5 Flights Every Wednesday (12 - 7 PM)
DESCRIPTION:
URL:https://smuttynose.com/event/tasting-bar-5-flights-every-wednesday-12-7-pm/2029-03-07/
END:VEVENT
BEGIN:VEVENT
DTSTART;TZID=America/New_York:20290307T180000
DTEND;TZID=America/New_York:20290307T203000
DTSTAMP:20260420T232102
CREATED:20250321T175459Z
LAST-MODIFIED:20250321T175459Z
UID:10000208-1867600800-1867609800@smuttynose.com
SUMMARY:Trivia: Every Wednesday\, 6 - 8:30 PM
DESCRIPTION:
URL:https://smuttynose.com/event/trivia-every-wednesday-6-830-pm/2029-03-07/
END:VEVENT
BEGIN:VEVENT
DTSTART;TZID=America/New_York:20290308T173000
DTEND;TZID=America/New_York:20290308T203000
DTSTAMP:20260420T232102
CREATED:20250321T175717Z
LAST-MODIFIED:20250321T175717Z
UID:10000730-1867685400-1867696200@smuttynose.com
SUMMARY:Live Music: Every Thursday\, 5:30 - 8:30 PM
DESCRIPTION:
URL:https://smuttynose.com/event/live-music-every-thursday-530-830-pm/2029-03-08/
END:VEVENT
BEGIN:VEVENT
DTSTART;TZID=America/New_York:20290314T120000
DTEND;TZID=America/New_York:20290314T190000
DTSTAMP:20260420T232102
CREATED:20250321T175619Z
LAST-MODIFIED:20250321T175619Z
UID:10000470-1868184000-1868209200@smuttynose.com
SUMMARY:Tasting Bar: $5 Flights Every Wednesday (12 - 7 PM)
DESCRIPTION:
URL:https://smuttynose.com/event/tasting-bar-5-flights-every-wednesday-12-7-pm/2029-03-14/
END:VEVENT
BEGIN:VEVENT
DTSTART;TZID=America/New_York:20290314T180000
DTEND;TZID=America/New_York:20290314T203000
DTSTAMP:20260420T232102
CREATED:20250321T175459Z
LAST-MODIFIED:20250321T175459Z
UID:10000209-1868205600-1868214600@smuttynose.com
SUMMARY:Trivia: Every Wednesday\, 6 - 8:30 PM
DESCRIPTION:
URL:https://smuttynose.com/event/trivia-every-wednesday-6-830-pm/2029-03-14/
END:VEVENT
BEGIN:VEVENT
DTSTART;TZID=America/New_York:20290315T173000
DTEND;TZID=America/New_York:20290315T203000
DTSTAMP:20260420T232102
CREATED:20250321T175717Z
LAST-MODIFIED:20250321T175717Z
UID:10000731-1868290200-1868301000@smuttynose.com
SUMMARY:Live Music: Every Thursday\, 5:30 - 8:30 PM
DESCRIPTION:
URL:https://smuttynose.com/event/live-music-every-thursday-530-830-pm/2029-03-15/
END:VEVENT
BEGIN:VEVENT
DTSTART;TZID=America/New_York:20290321T120000
DTEND;TZID=America/New_York:20290321T190000
DTSTAMP:20260420T232102
CREATED:20250321T175619Z
LAST-MODIFIED:20250321T175619Z
UID:10000471-1868788800-1868814000@smuttynose.com
SUMMARY:Tasting Bar: $5 Flights Every Wednesday (12 - 7 PM)
DESCRIPTION:
URL:https://smuttynose.com/event/tasting-bar-5-flights-every-wednesday-12-7-pm/2029-03-21/
END:VEVENT
BEGIN:VEVENT
DTSTART;TZID=America/New_York:20290321T180000
DTEND;TZID=America/New_York:20290321T203000
DTSTAMP:20260420T232102
CREATED:20250321T175459Z
LAST-MODIFIED:20250321T175459Z
UID:10000210-1868810400-1868819400@smuttynose.com
SUMMARY:Trivia: Every Wednesday\, 6 - 8:30 PM
DESCRIPTION:
URL:https://smuttynose.com/event/trivia-every-wednesday-6-830-pm/2029-03-21/
END:VEVENT
BEGIN:VEVENT
DTSTART;TZID=America/New_York:20290322T173000
DTEND;TZID=America/New_York:20290322T203000
DTSTAMP:20260420T232102
CREATED:20250321T175717Z
LAST-MODIFIED:20250321T175717Z
UID:10000732-1868895000-1868905800@smuttynose.com
SUMMARY:Live Music: Every Thursday\, 5:30 - 8:30 PM
DESCRIPTION:
URL:https://smuttynose.com/event/live-music-every-thursday-530-830-pm/2029-03-22/
END:VEVENT
BEGIN:VEVENT
DTSTART;TZID=America/New_York:20290328T120000
DTEND;TZID=America/New_York:20290328T190000
DTSTAMP:20260420T232102
CREATED:20250321T175619Z
LAST-MODIFIED:20250321T175619Z
UID:10000472-1869393600-1869418800@smuttynose.com
SUMMARY:Tasting Bar: $5 Flights Every Wednesday (12 - 7 PM)
DESCRIPTION:
URL:https://smuttynose.com/event/tasting-bar-5-flights-every-wednesday-12-7-pm/2029-03-28/
END:VEVENT
BEGIN:VEVENT
DTSTART;TZID=America/New_York:20290328T180000
DTEND;TZID=America/New_York:20290328T203000
DTSTAMP:20260420T232102
CREATED:20250321T175459Z
LAST-MODIFIED:20250321T175459Z
UID:10000211-1869415200-1869424200@smuttynose.com
SUMMARY:Trivia: Every Wednesday\, 6 - 8:30 PM
DESCRIPTION:
URL:https://smuttynose.com/event/trivia-every-wednesday-6-830-pm/2029-03-28/
END:VEVENT
BEGIN:VEVENT
DTSTART;TZID=America/New_York:20290329T173000
DTEND;TZID=America/New_York:20290329T203000
DTSTAMP:20260420T232102
CREATED:20250321T175717Z
LAST-MODIFIED:20250321T175717Z
UID:10000733-1869499800-1869510600@smuttynose.com
SUMMARY:Live Music: Every Thursday\, 5:30 - 8:30 PM
DESCRIPTION:
URL:https://smuttynose.com/event/live-music-every-thursday-530-830-pm/2029-03-29/
END:VEVENT
BEGIN:VEVENT
DTSTART;TZID=America/New_York:20290404T120000
DTEND;TZID=America/New_York:20290404T190000
DTSTAMP:20260420T232102
CREATED:20250321T175619Z
LAST-MODIFIED:20250321T175619Z
UID:10000473-1869998400-1870023600@smuttynose.com
SUMMARY:Tasting Bar: $5 Flights Every Wednesday (12 - 7 PM)
DESCRIPTION:
URL:https://smuttynose.com/event/tasting-bar-5-flights-every-wednesday-12-7-pm/2029-04-04/
END:VEVENT
BEGIN:VEVENT
DTSTART;TZID=America/New_York:20290404T180000
DTEND;TZID=America/New_York:20290404T203000
DTSTAMP:20260420T232102
CREATED:20250321T175459Z
LAST-MODIFIED:20250321T175459Z
UID:10000212-1870020000-1870029000@smuttynose.com
SUMMARY:Trivia: Every Wednesday\, 6 - 8:30 PM
DESCRIPTION:
URL:https://smuttynose.com/event/trivia-every-wednesday-6-830-pm/2029-04-04/
END:VEVENT
BEGIN:VEVENT
DTSTART;TZID=America/New_York:20290405T173000
DTEND;TZID=America/New_York:20290405T203000
DTSTAMP:20260420T232102
CREATED:20250321T175717Z
LAST-MODIFIED:20250321T175717Z
UID:10000734-1870104600-1870115400@smuttynose.com
SUMMARY:Live Music: Every Thursday\, 5:30 - 8:30 PM
DESCRIPTION:
URL:https://smuttynose.com/event/live-music-every-thursday-530-830-pm/2029-04-05/
END:VEVENT
BEGIN:VEVENT
DTSTART;TZID=America/New_York:20290411T120000
DTEND;TZID=America/New_York:20290411T190000
DTSTAMP:20260420T232102
CREATED:20250321T175619Z
LAST-MODIFIED:20250321T175619Z
UID:10000474-1870603200-1870628400@smuttynose.com
SUMMARY:Tasting Bar: $5 Flights Every Wednesday (12 - 7 PM)
DESCRIPTION:
URL:https://smuttynose.com/event/tasting-bar-5-flights-every-wednesday-12-7-pm/2029-04-11/
END:VEVENT
BEGIN:VEVENT
DTSTART;TZID=America/New_York:20290411T180000
DTEND;TZID=America/New_York:20290411T203000
DTSTAMP:20260420T232102
CREATED:20250321T175459Z
LAST-MODIFIED:20250321T175459Z
UID:10000213-1870624800-1870633800@smuttynose.com
SUMMARY:Trivia: Every Wednesday\, 6 - 8:30 PM
DESCRIPTION:
URL:https://smuttynose.com/event/trivia-every-wednesday-6-830-pm/2029-04-11/
END:VEVENT
BEGIN:VEVENT
DTSTART;TZID=America/New_York:20290412T173000
DTEND;TZID=America/New_York:20290412T203000
DTSTAMP:20260420T232102
CREATED:20250321T175717Z
LAST-MODIFIED:20250321T175717Z
UID:10000735-1870709400-1870720200@smuttynose.com
SUMMARY:Live Music: Every Thursday\, 5:30 - 8:30 PM
DESCRIPTION:
URL:https://smuttynose.com/event/live-music-every-thursday-530-830-pm/2029-04-12/
END:VEVENT
BEGIN:VEVENT
DTSTART;TZID=America/New_York:20290418T120000
DTEND;TZID=America/New_York:20290418T190000
DTSTAMP:20260420T232102
CREATED:20250321T175619Z
LAST-MODIFIED:20250321T175619Z
UID:10000475-1871208000-1871233200@smuttynose.com
SUMMARY:Tasting Bar: $5 Flights Every Wednesday (12 - 7 PM)
DESCRIPTION:
URL:https://smuttynose.com/event/tasting-bar-5-flights-every-wednesday-12-7-pm/2029-04-18/
END:VEVENT
BEGIN:VEVENT
DTSTART;TZID=America/New_York:20290418T180000
DTEND;TZID=America/New_York:20290418T203000
DTSTAMP:20260420T232102
CREATED:20250321T175459Z
LAST-MODIFIED:20250321T175459Z
UID:10000214-1871229600-1871238600@smuttynose.com
SUMMARY:Trivia: Every Wednesday\, 6 - 8:30 PM
DESCRIPTION:
URL:https://smuttynose.com/event/trivia-every-wednesday-6-830-pm/2029-04-18/
END:VEVENT
END:VCALENDAR