BEGIN:VCALENDAR
VERSION:2.0
PRODID:-//Smuttynose Brewing - ECPv6.15.20//NONSGML v1.0//EN
CALSCALE:GREGORIAN
METHOD:PUBLISH
X-WR-CALNAME:Smuttynose Brewing
X-ORIGINAL-URL:https://smuttynose.com
X-WR-CALDESC:Events for Smuttynose Brewing
REFRESH-INTERVAL;VALUE=DURATION:PT1H
X-Robots-Tag:noindex
X-PUBLISHED-TTL:PT1H
BEGIN:VTIMEZONE
TZID:America/New_York
BEGIN:DAYLIGHT
TZOFFSETFROM:-0500
TZOFFSETTO:-0400
TZNAME:EDT
DTSTART:20280312T070000
END:DAYLIGHT
BEGIN:STANDARD
TZOFFSETFROM:-0400
TZOFFSETTO:-0500
TZNAME:EST
DTSTART:20281105T060000
END:STANDARD
BEGIN:DAYLIGHT
TZOFFSETFROM:-0500
TZOFFSETTO:-0400
TZNAME:EDT
DTSTART:20290311T070000
END:DAYLIGHT
BEGIN:STANDARD
TZOFFSETFROM:-0400
TZOFFSETTO:-0500
TZNAME:EST
DTSTART:20291104T060000
END:STANDARD
BEGIN:DAYLIGHT
TZOFFSETFROM:-0500
TZOFFSETTO:-0400
TZNAME:EDT
DTSTART:20300310T070000
END:DAYLIGHT
BEGIN:STANDARD
TZOFFSETFROM:-0400
TZOFFSETTO:-0500
TZNAME:EST
DTSTART:20301103T060000
END:STANDARD
END:VTIMEZONE
BEGIN:VEVENT
DTSTART;TZID=America/New_York:20290328T180000
DTEND;TZID=America/New_York:20290328T203000
DTSTAMP:20260421T034626
CREATED:20250321T175459Z
LAST-MODIFIED:20250321T175459Z
UID:10000211-1869415200-1869424200@smuttynose.com
SUMMARY:Trivia: Every Wednesday\, 6 - 8:30 PM
DESCRIPTION:
URL:https://smuttynose.com/event/trivia-every-wednesday-6-830-pm/2029-03-28/
END:VEVENT
BEGIN:VEVENT
DTSTART;TZID=America/New_York:20290329T173000
DTEND;TZID=America/New_York:20290329T203000
DTSTAMP:20260421T034626
CREATED:20250321T175717Z
LAST-MODIFIED:20250321T175717Z
UID:10000733-1869499800-1869510600@smuttynose.com
SUMMARY:Live Music: Every Thursday\, 5:30 - 8:30 PM
DESCRIPTION:
URL:https://smuttynose.com/event/live-music-every-thursday-530-830-pm/2029-03-29/
END:VEVENT
BEGIN:VEVENT
DTSTART;TZID=America/New_York:20290404T120000
DTEND;TZID=America/New_York:20290404T190000
DTSTAMP:20260421T034626
CREATED:20250321T175619Z
LAST-MODIFIED:20250321T175619Z
UID:10000473-1869998400-1870023600@smuttynose.com
SUMMARY:Tasting Bar: $5 Flights Every Wednesday (12 - 7 PM)
DESCRIPTION:
URL:https://smuttynose.com/event/tasting-bar-5-flights-every-wednesday-12-7-pm/2029-04-04/
END:VEVENT
BEGIN:VEVENT
DTSTART;TZID=America/New_York:20290404T180000
DTEND;TZID=America/New_York:20290404T203000
DTSTAMP:20260421T034626
CREATED:20250321T175459Z
LAST-MODIFIED:20250321T175459Z
UID:10000212-1870020000-1870029000@smuttynose.com
SUMMARY:Trivia: Every Wednesday\, 6 - 8:30 PM
DESCRIPTION:
URL:https://smuttynose.com/event/trivia-every-wednesday-6-830-pm/2029-04-04/
END:VEVENT
BEGIN:VEVENT
DTSTART;TZID=America/New_York:20290405T173000
DTEND;TZID=America/New_York:20290405T203000
DTSTAMP:20260421T034626
CREATED:20250321T175717Z
LAST-MODIFIED:20250321T175717Z
UID:10000734-1870104600-1870115400@smuttynose.com
SUMMARY:Live Music: Every Thursday\, 5:30 - 8:30 PM
DESCRIPTION:
URL:https://smuttynose.com/event/live-music-every-thursday-530-830-pm/2029-04-05/
END:VEVENT
BEGIN:VEVENT
DTSTART;TZID=America/New_York:20290411T120000
DTEND;TZID=America/New_York:20290411T190000
DTSTAMP:20260421T034626
CREATED:20250321T175619Z
LAST-MODIFIED:20250321T175619Z
UID:10000474-1870603200-1870628400@smuttynose.com
SUMMARY:Tasting Bar: $5 Flights Every Wednesday (12 - 7 PM)
DESCRIPTION:
URL:https://smuttynose.com/event/tasting-bar-5-flights-every-wednesday-12-7-pm/2029-04-11/
END:VEVENT
BEGIN:VEVENT
DTSTART;TZID=America/New_York:20290411T180000
DTEND;TZID=America/New_York:20290411T203000
DTSTAMP:20260421T034626
CREATED:20250321T175459Z
LAST-MODIFIED:20250321T175459Z
UID:10000213-1870624800-1870633800@smuttynose.com
SUMMARY:Trivia: Every Wednesday\, 6 - 8:30 PM
DESCRIPTION:
URL:https://smuttynose.com/event/trivia-every-wednesday-6-830-pm/2029-04-11/
END:VEVENT
BEGIN:VEVENT
DTSTART;TZID=America/New_York:20290412T173000
DTEND;TZID=America/New_York:20290412T203000
DTSTAMP:20260421T034626
CREATED:20250321T175717Z
LAST-MODIFIED:20250321T175717Z
UID:10000735-1870709400-1870720200@smuttynose.com
SUMMARY:Live Music: Every Thursday\, 5:30 - 8:30 PM
DESCRIPTION:
URL:https://smuttynose.com/event/live-music-every-thursday-530-830-pm/2029-04-12/
END:VEVENT
BEGIN:VEVENT
DTSTART;TZID=America/New_York:20290418T120000
DTEND;TZID=America/New_York:20290418T190000
DTSTAMP:20260421T034626
CREATED:20250321T175619Z
LAST-MODIFIED:20250321T175619Z
UID:10000475-1871208000-1871233200@smuttynose.com
SUMMARY:Tasting Bar: $5 Flights Every Wednesday (12 - 7 PM)
DESCRIPTION:
URL:https://smuttynose.com/event/tasting-bar-5-flights-every-wednesday-12-7-pm/2029-04-18/
END:VEVENT
BEGIN:VEVENT
DTSTART;TZID=America/New_York:20290418T180000
DTEND;TZID=America/New_York:20290418T203000
DTSTAMP:20260421T034626
CREATED:20250321T175459Z
LAST-MODIFIED:20250321T175459Z
UID:10000214-1871229600-1871238600@smuttynose.com
SUMMARY:Trivia: Every Wednesday\, 6 - 8:30 PM
DESCRIPTION:
URL:https://smuttynose.com/event/trivia-every-wednesday-6-830-pm/2029-04-18/
END:VEVENT
BEGIN:VEVENT
DTSTART;TZID=America/New_York:20290419T173000
DTEND;TZID=America/New_York:20290419T203000
DTSTAMP:20260421T034626
CREATED:20250321T175717Z
LAST-MODIFIED:20250321T175717Z
UID:10000736-1871314200-1871325000@smuttynose.com
SUMMARY:Live Music: Every Thursday\, 5:30 - 8:30 PM
DESCRIPTION:
URL:https://smuttynose.com/event/live-music-every-thursday-530-830-pm/2029-04-19/
END:VEVENT
BEGIN:VEVENT
DTSTART;TZID=America/New_York:20290425T120000
DTEND;TZID=America/New_York:20290425T190000
DTSTAMP:20260421T034626
CREATED:20250321T175619Z
LAST-MODIFIED:20250321T175619Z
UID:10000476-1871812800-1871838000@smuttynose.com
SUMMARY:Tasting Bar: $5 Flights Every Wednesday (12 - 7 PM)
DESCRIPTION:
URL:https://smuttynose.com/event/tasting-bar-5-flights-every-wednesday-12-7-pm/2029-04-25/
END:VEVENT
BEGIN:VEVENT
DTSTART;TZID=America/New_York:20290425T180000
DTEND;TZID=America/New_York:20290425T203000
DTSTAMP:20260421T034626
CREATED:20250321T175459Z
LAST-MODIFIED:20250321T175459Z
UID:10000215-1871834400-1871843400@smuttynose.com
SUMMARY:Trivia: Every Wednesday\, 6 - 8:30 PM
DESCRIPTION:
URL:https://smuttynose.com/event/trivia-every-wednesday-6-830-pm/2029-04-25/
END:VEVENT
BEGIN:VEVENT
DTSTART;TZID=America/New_York:20290426T173000
DTEND;TZID=America/New_York:20290426T203000
DTSTAMP:20260421T034626
CREATED:20250321T175717Z
LAST-MODIFIED:20250321T175717Z
UID:10000737-1871919000-1871929800@smuttynose.com
SUMMARY:Live Music: Every Thursday\, 5:30 - 8:30 PM
DESCRIPTION:
URL:https://smuttynose.com/event/live-music-every-thursday-530-830-pm/2029-04-26/
END:VEVENT
BEGIN:VEVENT
DTSTART;TZID=America/New_York:20290502T120000
DTEND;TZID=America/New_York:20290502T190000
DTSTAMP:20260421T034626
CREATED:20250321T175619Z
LAST-MODIFIED:20250321T175619Z
UID:10000477-1872417600-1872442800@smuttynose.com
SUMMARY:Tasting Bar: $5 Flights Every Wednesday (12 - 7 PM)
DESCRIPTION:
URL:https://smuttynose.com/event/tasting-bar-5-flights-every-wednesday-12-7-pm/2029-05-02/
END:VEVENT
BEGIN:VEVENT
DTSTART;TZID=America/New_York:20290502T180000
DTEND;TZID=America/New_York:20290502T203000
DTSTAMP:20260421T034626
CREATED:20250321T175459Z
LAST-MODIFIED:20250321T175459Z
UID:10000216-1872439200-1872448200@smuttynose.com
SUMMARY:Trivia: Every Wednesday\, 6 - 8:30 PM
DESCRIPTION:
URL:https://smuttynose.com/event/trivia-every-wednesday-6-830-pm/2029-05-02/
END:VEVENT
BEGIN:VEVENT
DTSTART;TZID=America/New_York:20290503T173000
DTEND;TZID=America/New_York:20290503T203000
DTSTAMP:20260421T034626
CREATED:20250321T175717Z
LAST-MODIFIED:20250321T175717Z
UID:10000738-1872523800-1872534600@smuttynose.com
SUMMARY:Live Music: Every Thursday\, 5:30 - 8:30 PM
DESCRIPTION:
URL:https://smuttynose.com/event/live-music-every-thursday-530-830-pm/2029-05-03/
END:VEVENT
BEGIN:VEVENT
DTSTART;TZID=America/New_York:20290509T120000
DTEND;TZID=America/New_York:20290509T190000
DTSTAMP:20260421T034626
CREATED:20250321T175619Z
LAST-MODIFIED:20250321T175619Z
UID:10000478-1873022400-1873047600@smuttynose.com
SUMMARY:Tasting Bar: $5 Flights Every Wednesday (12 - 7 PM)
DESCRIPTION:
URL:https://smuttynose.com/event/tasting-bar-5-flights-every-wednesday-12-7-pm/2029-05-09/
END:VEVENT
BEGIN:VEVENT
DTSTART;TZID=America/New_York:20290509T180000
DTEND;TZID=America/New_York:20290509T203000
DTSTAMP:20260421T034626
CREATED:20250321T175459Z
LAST-MODIFIED:20250321T175459Z
UID:10000217-1873044000-1873053000@smuttynose.com
SUMMARY:Trivia: Every Wednesday\, 6 - 8:30 PM
DESCRIPTION:
URL:https://smuttynose.com/event/trivia-every-wednesday-6-830-pm/2029-05-09/
END:VEVENT
BEGIN:VEVENT
DTSTART;TZID=America/New_York:20290510T173000
DTEND;TZID=America/New_York:20290510T203000
DTSTAMP:20260421T034626
CREATED:20250321T175717Z
LAST-MODIFIED:20250321T175717Z
UID:10000739-1873128600-1873139400@smuttynose.com
SUMMARY:Live Music: Every Thursday\, 5:30 - 8:30 PM
DESCRIPTION:
URL:https://smuttynose.com/event/live-music-every-thursday-530-830-pm/2029-05-10/
END:VEVENT
BEGIN:VEVENT
DTSTART;TZID=America/New_York:20290516T120000
DTEND;TZID=America/New_York:20290516T190000
DTSTAMP:20260421T034626
CREATED:20250321T175619Z
LAST-MODIFIED:20250321T175619Z
UID:10000479-1873627200-1873652400@smuttynose.com
SUMMARY:Tasting Bar: $5 Flights Every Wednesday (12 - 7 PM)
DESCRIPTION:
URL:https://smuttynose.com/event/tasting-bar-5-flights-every-wednesday-12-7-pm/2029-05-16/
END:VEVENT
BEGIN:VEVENT
DTSTART;TZID=America/New_York:20290516T180000
DTEND;TZID=America/New_York:20290516T203000
DTSTAMP:20260421T034626
CREATED:20250321T175459Z
LAST-MODIFIED:20250321T175459Z
UID:10000218-1873648800-1873657800@smuttynose.com
SUMMARY:Trivia: Every Wednesday\, 6 - 8:30 PM
DESCRIPTION:
URL:https://smuttynose.com/event/trivia-every-wednesday-6-830-pm/2029-05-16/
END:VEVENT
BEGIN:VEVENT
DTSTART;TZID=America/New_York:20290517T173000
DTEND;TZID=America/New_York:20290517T203000
DTSTAMP:20260421T034626
CREATED:20250321T175717Z
LAST-MODIFIED:20250321T175717Z
UID:10000740-1873733400-1873744200@smuttynose.com
SUMMARY:Live Music: Every Thursday\, 5:30 - 8:30 PM
DESCRIPTION:
URL:https://smuttynose.com/event/live-music-every-thursday-530-830-pm/2029-05-17/
END:VEVENT
BEGIN:VEVENT
DTSTART;TZID=America/New_York:20290523T120000
DTEND;TZID=America/New_York:20290523T190000
DTSTAMP:20260421T034626
CREATED:20250321T175619Z
LAST-MODIFIED:20250321T175619Z
UID:10000480-1874232000-1874257200@smuttynose.com
SUMMARY:Tasting Bar: $5 Flights Every Wednesday (12 - 7 PM)
DESCRIPTION:
URL:https://smuttynose.com/event/tasting-bar-5-flights-every-wednesday-12-7-pm/2029-05-23/
END:VEVENT
BEGIN:VEVENT
DTSTART;TZID=America/New_York:20290523T180000
DTEND;TZID=America/New_York:20290523T203000
DTSTAMP:20260421T034626
CREATED:20250321T175459Z
LAST-MODIFIED:20250321T175459Z
UID:10000219-1874253600-1874262600@smuttynose.com
SUMMARY:Trivia: Every Wednesday\, 6 - 8:30 PM
DESCRIPTION:
URL:https://smuttynose.com/event/trivia-every-wednesday-6-830-pm/2029-05-23/
END:VEVENT
BEGIN:VEVENT
DTSTART;TZID=America/New_York:20290524T173000
DTEND;TZID=America/New_York:20290524T203000
DTSTAMP:20260421T034626
CREATED:20250321T175717Z
LAST-MODIFIED:20250321T175717Z
UID:10000741-1874338200-1874349000@smuttynose.com
SUMMARY:Live Music: Every Thursday\, 5:30 - 8:30 PM
DESCRIPTION:
URL:https://smuttynose.com/event/live-music-every-thursday-530-830-pm/2029-05-24/
END:VEVENT
BEGIN:VEVENT
DTSTART;TZID=America/New_York:20290530T120000
DTEND;TZID=America/New_York:20290530T190000
DTSTAMP:20260421T034626
CREATED:20250321T175619Z
LAST-MODIFIED:20250321T175619Z
UID:10000481-1874836800-1874862000@smuttynose.com
SUMMARY:Tasting Bar: $5 Flights Every Wednesday (12 - 7 PM)
DESCRIPTION:
URL:https://smuttynose.com/event/tasting-bar-5-flights-every-wednesday-12-7-pm/2029-05-30/
END:VEVENT
BEGIN:VEVENT
DTSTART;TZID=America/New_York:20290530T180000
DTEND;TZID=America/New_York:20290530T203000
DTSTAMP:20260421T034626
CREATED:20250321T175459Z
LAST-MODIFIED:20250321T175459Z
UID:10000220-1874858400-1874867400@smuttynose.com
SUMMARY:Trivia: Every Wednesday\, 6 - 8:30 PM
DESCRIPTION:
URL:https://smuttynose.com/event/trivia-every-wednesday-6-830-pm/2029-05-30/
END:VEVENT
BEGIN:VEVENT
DTSTART;TZID=America/New_York:20290531T173000
DTEND;TZID=America/New_York:20290531T203000
DTSTAMP:20260421T034626
CREATED:20250321T175717Z
LAST-MODIFIED:20250321T175717Z
UID:10000742-1874943000-1874953800@smuttynose.com
SUMMARY:Live Music: Every Thursday\, 5:30 - 8:30 PM
DESCRIPTION:
URL:https://smuttynose.com/event/live-music-every-thursday-530-830-pm/2029-05-31/
END:VEVENT
BEGIN:VEVENT
DTSTART;TZID=America/New_York:20290606T120000
DTEND;TZID=America/New_York:20290606T190000
DTSTAMP:20260421T034626
CREATED:20250321T175619Z
LAST-MODIFIED:20250321T175619Z
UID:10000482-1875441600-1875466800@smuttynose.com
SUMMARY:Tasting Bar: $5 Flights Every Wednesday (12 - 7 PM)
DESCRIPTION:
URL:https://smuttynose.com/event/tasting-bar-5-flights-every-wednesday-12-7-pm/2029-06-06/
END:VEVENT
END:VCALENDAR