BEGIN:VCALENDAR
VERSION:2.0
PRODID:-//Smuttynose Brewing - ECPv6.15.20//NONSGML v1.0//EN
CALSCALE:GREGORIAN
METHOD:PUBLISH
X-WR-CALNAME:Smuttynose Brewing
X-ORIGINAL-URL:https://smuttynose.com
X-WR-CALDESC:Events for Smuttynose Brewing
REFRESH-INTERVAL;VALUE=DURATION:PT1H
X-Robots-Tag:noindex
X-PUBLISHED-TTL:PT1H
BEGIN:VTIMEZONE
TZID:America/New_York
BEGIN:DAYLIGHT
TZOFFSETFROM:-0500
TZOFFSETTO:-0400
TZNAME:EDT
DTSTART:20280312T070000
END:DAYLIGHT
BEGIN:STANDARD
TZOFFSETFROM:-0400
TZOFFSETTO:-0500
TZNAME:EST
DTSTART:20281105T060000
END:STANDARD
BEGIN:DAYLIGHT
TZOFFSETFROM:-0500
TZOFFSETTO:-0400
TZNAME:EDT
DTSTART:20290311T070000
END:DAYLIGHT
BEGIN:STANDARD
TZOFFSETFROM:-0400
TZOFFSETTO:-0500
TZNAME:EST
DTSTART:20291104T060000
END:STANDARD
BEGIN:DAYLIGHT
TZOFFSETFROM:-0500
TZOFFSETTO:-0400
TZNAME:EDT
DTSTART:20300310T070000
END:DAYLIGHT
BEGIN:STANDARD
TZOFFSETFROM:-0400
TZOFFSETTO:-0500
TZNAME:EST
DTSTART:20301103T060000
END:STANDARD
END:VTIMEZONE
BEGIN:VEVENT
DTSTART;TZID=America/New_York:20290913T173000
DTEND;TZID=America/New_York:20290913T203000
DTSTAMP:20260425T083250
CREATED:20250321T175717Z
LAST-MODIFIED:20250321T175717Z
UID:10000757-1884015000-1884025800@smuttynose.com
SUMMARY:Live Music: Every Thursday\, 5:30 - 8:30 PM
DESCRIPTION:
URL:https://smuttynose.com/event/live-music-every-thursday-530-830-pm/2029-09-13/
END:VEVENT
BEGIN:VEVENT
DTSTART;TZID=America/New_York:20290919T120000
DTEND;TZID=America/New_York:20290919T190000
DTSTAMP:20260425T083250
CREATED:20250321T175619Z
LAST-MODIFIED:20250321T175619Z
UID:10000497-1884513600-1884538800@smuttynose.com
SUMMARY:Tasting Bar: $5 Flights Every Wednesday (12 - 7 PM)
DESCRIPTION:
URL:https://smuttynose.com/event/tasting-bar-5-flights-every-wednesday-12-7-pm/2029-09-19/
END:VEVENT
BEGIN:VEVENT
DTSTART;TZID=America/New_York:20290919T180000
DTEND;TZID=America/New_York:20290919T203000
DTSTAMP:20260425T083250
CREATED:20250321T175459Z
LAST-MODIFIED:20250321T175459Z
UID:10000236-1884535200-1884544200@smuttynose.com
SUMMARY:Trivia: Every Wednesday\, 6 - 8:30 PM
DESCRIPTION:
URL:https://smuttynose.com/event/trivia-every-wednesday-6-830-pm/2029-09-19/
END:VEVENT
BEGIN:VEVENT
DTSTART;TZID=America/New_York:20290920T173000
DTEND;TZID=America/New_York:20290920T203000
DTSTAMP:20260425T083250
CREATED:20250321T175717Z
LAST-MODIFIED:20250321T175717Z
UID:10000758-1884619800-1884630600@smuttynose.com
SUMMARY:Live Music: Every Thursday\, 5:30 - 8:30 PM
DESCRIPTION:
URL:https://smuttynose.com/event/live-music-every-thursday-530-830-pm/2029-09-20/
END:VEVENT
BEGIN:VEVENT
DTSTART;TZID=America/New_York:20290926T120000
DTEND;TZID=America/New_York:20290926T190000
DTSTAMP:20260425T083250
CREATED:20250321T175619Z
LAST-MODIFIED:20250321T175619Z
UID:10000498-1885118400-1885143600@smuttynose.com
SUMMARY:Tasting Bar: $5 Flights Every Wednesday (12 - 7 PM)
DESCRIPTION:
URL:https://smuttynose.com/event/tasting-bar-5-flights-every-wednesday-12-7-pm/2029-09-26/
END:VEVENT
BEGIN:VEVENT
DTSTART;TZID=America/New_York:20290926T180000
DTEND;TZID=America/New_York:20290926T203000
DTSTAMP:20260425T083250
CREATED:20250321T175459Z
LAST-MODIFIED:20250321T175459Z
UID:10000237-1885140000-1885149000@smuttynose.com
SUMMARY:Trivia: Every Wednesday\, 6 - 8:30 PM
DESCRIPTION:
URL:https://smuttynose.com/event/trivia-every-wednesday-6-830-pm/2029-09-26/
END:VEVENT
BEGIN:VEVENT
DTSTART;TZID=America/New_York:20290927T173000
DTEND;TZID=America/New_York:20290927T203000
DTSTAMP:20260425T083250
CREATED:20250321T175717Z
LAST-MODIFIED:20250321T175717Z
UID:10000759-1885224600-1885235400@smuttynose.com
SUMMARY:Live Music: Every Thursday\, 5:30 - 8:30 PM
DESCRIPTION:
URL:https://smuttynose.com/event/live-music-every-thursday-530-830-pm/2029-09-27/
END:VEVENT
BEGIN:VEVENT
DTSTART;TZID=America/New_York:20291003T120000
DTEND;TZID=America/New_York:20291003T190000
DTSTAMP:20260425T083250
CREATED:20250321T175619Z
LAST-MODIFIED:20250321T175619Z
UID:10000499-1885723200-1885748400@smuttynose.com
SUMMARY:Tasting Bar: $5 Flights Every Wednesday (12 - 7 PM)
DESCRIPTION:
URL:https://smuttynose.com/event/tasting-bar-5-flights-every-wednesday-12-7-pm/2029-10-03/
END:VEVENT
BEGIN:VEVENT
DTSTART;TZID=America/New_York:20291003T180000
DTEND;TZID=America/New_York:20291003T203000
DTSTAMP:20260425T083250
CREATED:20250321T175459Z
LAST-MODIFIED:20250321T175459Z
UID:10000238-1885744800-1885753800@smuttynose.com
SUMMARY:Trivia: Every Wednesday\, 6 - 8:30 PM
DESCRIPTION:
URL:https://smuttynose.com/event/trivia-every-wednesday-6-830-pm/2029-10-03/
END:VEVENT
BEGIN:VEVENT
DTSTART;TZID=America/New_York:20291004T173000
DTEND;TZID=America/New_York:20291004T203000
DTSTAMP:20260425T083250
CREATED:20250321T175717Z
LAST-MODIFIED:20250321T175717Z
UID:10000760-1885829400-1885840200@smuttynose.com
SUMMARY:Live Music: Every Thursday\, 5:30 - 8:30 PM
DESCRIPTION:
URL:https://smuttynose.com/event/live-music-every-thursday-530-830-pm/2029-10-04/
END:VEVENT
BEGIN:VEVENT
DTSTART;TZID=America/New_York:20291010T120000
DTEND;TZID=America/New_York:20291010T190000
DTSTAMP:20260425T083250
CREATED:20250321T175619Z
LAST-MODIFIED:20250321T175619Z
UID:10000500-1886328000-1886353200@smuttynose.com
SUMMARY:Tasting Bar: $5 Flights Every Wednesday (12 - 7 PM)
DESCRIPTION:
URL:https://smuttynose.com/event/tasting-bar-5-flights-every-wednesday-12-7-pm/2029-10-10/
END:VEVENT
BEGIN:VEVENT
DTSTART;TZID=America/New_York:20291010T180000
DTEND;TZID=America/New_York:20291010T203000
DTSTAMP:20260425T083250
CREATED:20250321T175459Z
LAST-MODIFIED:20250321T175459Z
UID:10000239-1886349600-1886358600@smuttynose.com
SUMMARY:Trivia: Every Wednesday\, 6 - 8:30 PM
DESCRIPTION:
URL:https://smuttynose.com/event/trivia-every-wednesday-6-830-pm/2029-10-10/
END:VEVENT
BEGIN:VEVENT
DTSTART;TZID=America/New_York:20291011T173000
DTEND;TZID=America/New_York:20291011T203000
DTSTAMP:20260425T083250
CREATED:20250321T175717Z
LAST-MODIFIED:20250321T175717Z
UID:10000761-1886434200-1886445000@smuttynose.com
SUMMARY:Live Music: Every Thursday\, 5:30 - 8:30 PM
DESCRIPTION:
URL:https://smuttynose.com/event/live-music-every-thursday-530-830-pm/2029-10-11/
END:VEVENT
BEGIN:VEVENT
DTSTART;TZID=America/New_York:20291017T120000
DTEND;TZID=America/New_York:20291017T190000
DTSTAMP:20260425T083250
CREATED:20250321T175619Z
LAST-MODIFIED:20250321T175619Z
UID:10000501-1886932800-1886958000@smuttynose.com
SUMMARY:Tasting Bar: $5 Flights Every Wednesday (12 - 7 PM)
DESCRIPTION:
URL:https://smuttynose.com/event/tasting-bar-5-flights-every-wednesday-12-7-pm/2029-10-17/
END:VEVENT
BEGIN:VEVENT
DTSTART;TZID=America/New_York:20291017T180000
DTEND;TZID=America/New_York:20291017T203000
DTSTAMP:20260425T083250
CREATED:20250321T175459Z
LAST-MODIFIED:20250321T175459Z
UID:10000240-1886954400-1886963400@smuttynose.com
SUMMARY:Trivia: Every Wednesday\, 6 - 8:30 PM
DESCRIPTION:
URL:https://smuttynose.com/event/trivia-every-wednesday-6-830-pm/2029-10-17/
END:VEVENT
BEGIN:VEVENT
DTSTART;TZID=America/New_York:20291018T173000
DTEND;TZID=America/New_York:20291018T203000
DTSTAMP:20260425T083250
CREATED:20250321T175717Z
LAST-MODIFIED:20250321T175717Z
UID:10000762-1887039000-1887049800@smuttynose.com
SUMMARY:Live Music: Every Thursday\, 5:30 - 8:30 PM
DESCRIPTION:
URL:https://smuttynose.com/event/live-music-every-thursday-530-830-pm/2029-10-18/
END:VEVENT
BEGIN:VEVENT
DTSTART;TZID=America/New_York:20291024T120000
DTEND;TZID=America/New_York:20291024T190000
DTSTAMP:20260425T083250
CREATED:20250321T175619Z
LAST-MODIFIED:20250321T175619Z
UID:10000502-1887537600-1887562800@smuttynose.com
SUMMARY:Tasting Bar: $5 Flights Every Wednesday (12 - 7 PM)
DESCRIPTION:
URL:https://smuttynose.com/event/tasting-bar-5-flights-every-wednesday-12-7-pm/2029-10-24/
END:VEVENT
BEGIN:VEVENT
DTSTART;TZID=America/New_York:20291024T180000
DTEND;TZID=America/New_York:20291024T203000
DTSTAMP:20260425T083250
CREATED:20250321T175459Z
LAST-MODIFIED:20250321T175459Z
UID:10000241-1887559200-1887568200@smuttynose.com
SUMMARY:Trivia: Every Wednesday\, 6 - 8:30 PM
DESCRIPTION:
URL:https://smuttynose.com/event/trivia-every-wednesday-6-830-pm/2029-10-24/
END:VEVENT
BEGIN:VEVENT
DTSTART;TZID=America/New_York:20291025T173000
DTEND;TZID=America/New_York:20291025T203000
DTSTAMP:20260425T083250
CREATED:20250321T175717Z
LAST-MODIFIED:20250321T175717Z
UID:10000763-1887643800-1887654600@smuttynose.com
SUMMARY:Live Music: Every Thursday\, 5:30 - 8:30 PM
DESCRIPTION:
URL:https://smuttynose.com/event/live-music-every-thursday-530-830-pm/2029-10-25/
END:VEVENT
BEGIN:VEVENT
DTSTART;TZID=America/New_York:20291031T120000
DTEND;TZID=America/New_York:20291031T190000
DTSTAMP:20260425T083250
CREATED:20250321T175619Z
LAST-MODIFIED:20250321T175619Z
UID:10000503-1888142400-1888167600@smuttynose.com
SUMMARY:Tasting Bar: $5 Flights Every Wednesday (12 - 7 PM)
DESCRIPTION:
URL:https://smuttynose.com/event/tasting-bar-5-flights-every-wednesday-12-7-pm/2029-10-31/
END:VEVENT
BEGIN:VEVENT
DTSTART;TZID=America/New_York:20291031T180000
DTEND;TZID=America/New_York:20291031T203000
DTSTAMP:20260425T083250
CREATED:20250321T175459Z
LAST-MODIFIED:20250321T175459Z
UID:10000242-1888164000-1888173000@smuttynose.com
SUMMARY:Trivia: Every Wednesday\, 6 - 8:30 PM
DESCRIPTION:
URL:https://smuttynose.com/event/trivia-every-wednesday-6-830-pm/2029-10-31/
END:VEVENT
BEGIN:VEVENT
DTSTART;TZID=America/New_York:20291101T173000
DTEND;TZID=America/New_York:20291101T203000
DTSTAMP:20260425T083250
CREATED:20250321T175717Z
LAST-MODIFIED:20250321T175717Z
UID:10000764-1888248600-1888259400@smuttynose.com
SUMMARY:Live Music: Every Thursday\, 5:30 - 8:30 PM
DESCRIPTION:
URL:https://smuttynose.com/event/live-music-every-thursday-530-830-pm/2029-11-01/
END:VEVENT
BEGIN:VEVENT
DTSTART;TZID=America/New_York:20291107T120000
DTEND;TZID=America/New_York:20291107T190000
DTSTAMP:20260425T083250
CREATED:20250321T175619Z
LAST-MODIFIED:20250321T175619Z
UID:10000504-1888747200-1888772400@smuttynose.com
SUMMARY:Tasting Bar: $5 Flights Every Wednesday (12 - 7 PM)
DESCRIPTION:
URL:https://smuttynose.com/event/tasting-bar-5-flights-every-wednesday-12-7-pm/2029-11-07/
END:VEVENT
BEGIN:VEVENT
DTSTART;TZID=America/New_York:20291107T180000
DTEND;TZID=America/New_York:20291107T203000
DTSTAMP:20260425T083250
CREATED:20250321T175459Z
LAST-MODIFIED:20250321T175459Z
UID:10000243-1888768800-1888777800@smuttynose.com
SUMMARY:Trivia: Every Wednesday\, 6 - 8:30 PM
DESCRIPTION:
URL:https://smuttynose.com/event/trivia-every-wednesday-6-830-pm/2029-11-07/
END:VEVENT
BEGIN:VEVENT
DTSTART;TZID=America/New_York:20291108T173000
DTEND;TZID=America/New_York:20291108T203000
DTSTAMP:20260425T083250
CREATED:20250321T175717Z
LAST-MODIFIED:20250321T175717Z
UID:10000765-1888853400-1888864200@smuttynose.com
SUMMARY:Live Music: Every Thursday\, 5:30 - 8:30 PM
DESCRIPTION:
URL:https://smuttynose.com/event/live-music-every-thursday-530-830-pm/2029-11-08/
END:VEVENT
BEGIN:VEVENT
DTSTART;TZID=America/New_York:20291114T120000
DTEND;TZID=America/New_York:20291114T190000
DTSTAMP:20260425T083250
CREATED:20250321T175619Z
LAST-MODIFIED:20250321T175619Z
UID:10000505-1889352000-1889377200@smuttynose.com
SUMMARY:Tasting Bar: $5 Flights Every Wednesday (12 - 7 PM)
DESCRIPTION:
URL:https://smuttynose.com/event/tasting-bar-5-flights-every-wednesday-12-7-pm/2029-11-14/
END:VEVENT
BEGIN:VEVENT
DTSTART;TZID=America/New_York:20291114T180000
DTEND;TZID=America/New_York:20291114T203000
DTSTAMP:20260425T083250
CREATED:20250321T175459Z
LAST-MODIFIED:20250321T175459Z
UID:10000244-1889373600-1889382600@smuttynose.com
SUMMARY:Trivia: Every Wednesday\, 6 - 8:30 PM
DESCRIPTION:
URL:https://smuttynose.com/event/trivia-every-wednesday-6-830-pm/2029-11-14/
END:VEVENT
BEGIN:VEVENT
DTSTART;TZID=America/New_York:20291115T173000
DTEND;TZID=America/New_York:20291115T203000
DTSTAMP:20260425T083250
CREATED:20250321T175717Z
LAST-MODIFIED:20250321T175717Z
UID:10000766-1889458200-1889469000@smuttynose.com
SUMMARY:Live Music: Every Thursday\, 5:30 - 8:30 PM
DESCRIPTION:
URL:https://smuttynose.com/event/live-music-every-thursday-530-830-pm/2029-11-15/
END:VEVENT
BEGIN:VEVENT
DTSTART;TZID=America/New_York:20291121T120000
DTEND;TZID=America/New_York:20291121T190000
DTSTAMP:20260425T083250
CREATED:20250321T175619Z
LAST-MODIFIED:20250321T175619Z
UID:10000506-1889956800-1889982000@smuttynose.com
SUMMARY:Tasting Bar: $5 Flights Every Wednesday (12 - 7 PM)
DESCRIPTION:
URL:https://smuttynose.com/event/tasting-bar-5-flights-every-wednesday-12-7-pm/2029-11-21/
END:VEVENT
BEGIN:VEVENT
DTSTART;TZID=America/New_York:20291121T180000
DTEND;TZID=America/New_York:20291121T203000
DTSTAMP:20260425T083250
CREATED:20250321T175459Z
LAST-MODIFIED:20250321T175459Z
UID:10000245-1889978400-1889987400@smuttynose.com
SUMMARY:Trivia: Every Wednesday\, 6 - 8:30 PM
DESCRIPTION:
URL:https://smuttynose.com/event/trivia-every-wednesday-6-830-pm/2029-11-21/
END:VEVENT
END:VCALENDAR